Package: tidyFlowCore Version: 1.2.0 Command: /Library/Frameworks/R.framework/Resources/bin/R CMD build --keep-empty-dirs --no-resave-data tidyFlowCore StartedAt: 2025-10-14 11:01:03 -0400 (Tue, 14 Oct 2025) EndedAt: 2025-10-14 11:02:21 -0400 (Tue, 14 Oct 2025) EllapsedTime: 77.7 seconds RetCode: 0 Status: OK PackageFile: tidyFlowCore_1.2.0.tar.gz PackageFileSize: 780.3 KiB