Package: tidyFlowCore Version: 1.2.0 Command: rm -rf tidyFlowCore.buildbin-libdir && mkdir tidyFlowCore.buildbin-libdir && /Users/biocbuild/BBS/utils/build-universal.sh tidyFlowCore_1.2.0.tar.gz /Library/Frameworks/R.framework/Resources/bin/R tidyFlowCore.buildbin-libdir StartedAt: 2025-10-15 20:50:37 -0400 (Wed, 15 Oct 2025) EndedAt: 2025-10-15 20:50:51 -0400 (Wed, 15 Oct 2025) EllapsedTime: 13.6 seconds RetCode: 0 Status: OK PackageFile: tidyFlowCore_1.2.0.tgz PackageFileSize: 920.6 KiB