Package: tidyCoverage Version: 1.4.1 Command: /home/biocbuild/bbs-3.21-bioc/R/bin/R CMD INSTALL tidyCoverage StartedAt: 2025-10-15 15:26:02 -0400 (Wed, 15 Oct 2025) EndedAt: 2025-10-15 15:26:37 -0400 (Wed, 15 Oct 2025) EllapsedTime: 35.3 seconds RetCode: 0 Status: OK