Package: tidyCoverage Version: 1.4.1 Command: /Library/Frameworks/R.framework/Resources/bin/R CMD INSTALL tidyCoverage StartedAt: 2025-10-13 15:49:26 -0400 (Mon, 13 Oct 2025) EndedAt: 2025-10-13 15:50:41 -0400 (Mon, 13 Oct 2025) EllapsedTime: 74.6 seconds RetCode: 0 Status: OK