Package: tidyCoverage Version: 1.4.1 Command: /Library/Frameworks/R.framework/Resources/bin/R CMD build --keep-empty-dirs --no-resave-data tidyCoverage StartedAt: 2025-10-13 23:13:36 -0400 (Mon, 13 Oct 2025) EndedAt: 2025-10-13 23:19:47 -0400 (Mon, 13 Oct 2025) EllapsedTime: 371.0 seconds RetCode: 0 Status: OK PackageFile: tidyCoverage_1.4.1.tar.gz PackageFileSize: 3.898 MiB