Package: tidyCoverage Version: 1.4.1 Command: /home/biocbuild/R/R/bin/R CMD INSTALL tidyCoverage StartedAt: 2025-10-13 20:41:12 -0000 (Mon, 13 Oct 2025) EndedAt: 2025-10-13 20:42:03 -0000 (Mon, 13 Oct 2025) EllapsedTime: 51.2 seconds RetCode: 0 Status: OK