Package: tidyCoverage Version: 1.4.1 Command: /Library/Frameworks/R.framework/Resources/bin/R CMD check --install=check:tidyCoverage.install-out.txt --library=/Library/Frameworks/R.framework/Resources/library --no-vignettes --timings tidyCoverage_1.4.1.tar.gz StartedAt: 2025-10-15 15:18:20 -0400 (Wed, 15 Oct 2025) EndedAt: 2025-10-15 15:24:46 -0400 (Wed, 15 Oct 2025) EllapsedTime: 386.0 seconds RetCode: 0 Status: OK CheckDir: tidyCoverage.Rcheck Warnings: 0