Package: tidyCoverage Version: 1.4.1 Command: /Library/Frameworks/R.framework/Resources/bin/R CMD build --keep-empty-dirs --no-resave-data tidyCoverage StartedAt: 2025-10-14 11:00:55 -0400 (Tue, 14 Oct 2025) EndedAt: 2025-10-14 11:04:54 -0400 (Tue, 14 Oct 2025) EllapsedTime: 238.2 seconds RetCode: 0 Status: OK PackageFile: tidyCoverage_1.4.1.tar.gz PackageFileSize: 3.898 MiB