Package: tidyCoverage Version: 1.4.1 Command: rm -rf tidyCoverage.buildbin-libdir && mkdir tidyCoverage.buildbin-libdir && /Users/biocbuild/BBS/utils/build-universal.sh tidyCoverage_1.4.1.tar.gz /Library/Frameworks/R.framework/Resources/bin/R tidyCoverage.buildbin-libdir StartedAt: 2025-10-15 20:50:14 -0400 (Wed, 15 Oct 2025) EndedAt: 2025-10-15 20:51:01 -0400 (Wed, 15 Oct 2025) EllapsedTime: 46.9 seconds RetCode: 0 Status: OK PackageFile: tidyCoverage_1.4.1.tgz PackageFileSize: 4.218 MiB