Package: ternarynet Version: 1.52.0 Command: /home/biocbuild/R/R/bin/R CMD INSTALL ternarynet StartedAt: 2025-10-13 20:16:08 -0000 (Mon, 13 Oct 2025) EndedAt: 2025-10-13 20:16:40 -0000 (Mon, 13 Oct 2025) EllapsedTime: 32.0 seconds RetCode: 0 Status: OK