Package: ternarynet Version: 1.52.0 Command: /home/biocbuild/R/R/bin/R CMD build --keep-empty-dirs --no-resave-data ternarynet StartedAt: 2025-10-14 05:20:42 -0000 (Tue, 14 Oct 2025) EndedAt: 2025-10-14 05:20:58 -0000 (Tue, 14 Oct 2025) EllapsedTime: 16.0 seconds RetCode: 0 Status: OK PackageFile: ternarynet_1.52.0.tar.gz PackageFileSize: 259.6 KiB