Package: tanggle Version: 1.14.0 Command: /home/biocbuild/bbs-3.21-bioc/R/bin/R CMD build --keep-empty-dirs --no-resave-data tanggle StartedAt: 2025-10-15 20:15:04 -0400 (Wed, 15 Oct 2025) EndedAt: 2025-10-15 20:15:27 -0400 (Wed, 15 Oct 2025) EllapsedTime: 23.0 seconds RetCode: 0 Status: OK PackageFile: tanggle_1.14.0.tar.gz PackageFileSize: 2.096 MiB