Package: tanggle Version: 1.14.0 Command: /home/biocbuild/R/R/bin/R CMD INSTALL tanggle StartedAt: 2025-10-13 20:21:43 -0000 (Mon, 13 Oct 2025) EndedAt: 2025-10-13 20:21:55 -0000 (Mon, 13 Oct 2025) EllapsedTime: 11.4 seconds RetCode: 0 Status: OK