Package: tanggle Version: 1.14.0 Command: /home/biocbuild/R/R/bin/R CMD build --keep-empty-dirs --no-resave-data tanggle StartedAt: 2025-10-14 05:18:15 -0000 (Tue, 14 Oct 2025) EndedAt: 2025-10-14 05:18:48 -0000 (Tue, 14 Oct 2025) EllapsedTime: 33.0 seconds RetCode: 0 Status: OK PackageFile: tanggle_1.14.0.tar.gz PackageFileSize: 1.828 MiB