Package: tRNAscanImport Version: 1.28.0 Command: /home/biocbuild/bbs-3.21-bioc/R/bin/R CMD build --keep-empty-dirs --no-resave-data tRNAscanImport StartedAt: 2025-10-15 20:24:17 -0400 (Wed, 15 Oct 2025) EndedAt: 2025-10-15 20:25:56 -0400 (Wed, 15 Oct 2025) EllapsedTime: 99.1 seconds RetCode: 0 Status: OK PackageFile: tRNAscanImport_1.28.0.tar.gz PackageFileSize: 848.4 KiB