Package: tRNAdbImport Version: 1.26.0 Command: /home/biocbuild/R/R/bin/R CMD INSTALL tRNAdbImport StartedAt: 2025-10-13 20:53:21 -0000 (Mon, 13 Oct 2025) EndedAt: 2025-10-13 20:53:43 -0000 (Mon, 13 Oct 2025) EllapsedTime: 21.1 seconds RetCode: 0 Status: OK