Package: systemPipeTools Version: 1.16.0 Command: /Library/Frameworks/R.framework/Resources/bin/R CMD INSTALL systemPipeTools StartedAt: 2025-10-13 15:39:41 -0400 (Mon, 13 Oct 2025) EndedAt: 2025-10-13 15:40:37 -0400 (Mon, 13 Oct 2025) EllapsedTime: 56.8 seconds RetCode: 0 Status: OK