Package: systemPipeTools Version: 1.16.0 Command: /Library/Frameworks/R.framework/Resources/bin/R CMD build --keep-empty-dirs --no-resave-data systemPipeTools StartedAt: 2025-10-13 23:09:23 -0400 (Mon, 13 Oct 2025) EndedAt: 2025-10-13 23:11:39 -0400 (Mon, 13 Oct 2025) EllapsedTime: 136.4 seconds RetCode: 0 Status: OK PackageFile: systemPipeTools_1.16.0.tar.gz PackageFileSize: 1003 KiB