Package: systemPipeTools Version: 1.16.0 Command: /home/biocbuild/R/R/bin/R CMD check --install=check:systemPipeTools.install-out.txt --library=/home/biocbuild/R/R/site-library --no-vignettes --timings systemPipeTools_1.16.0.tar.gz StartedAt: 2025-10-14 15:10:54 -0000 (Tue, 14 Oct 2025) EndedAt: 2025-10-14 15:16:07 -0000 (Tue, 14 Oct 2025) EllapsedTime: 312.6 seconds RetCode: 1 Status: ERROR CheckDir: systemPipeTools.Rcheck Warnings: NA