Package: systemPipeTools Version: 1.16.0 Command: /home/biocbuild/R/R/bin/R CMD build --keep-empty-dirs --no-resave-data systemPipeTools StartedAt: 2025-10-14 05:17:02 -0000 (Tue, 14 Oct 2025) EndedAt: 2025-10-14 05:18:31 -0000 (Tue, 14 Oct 2025) EllapsedTime: 89.0 seconds RetCode: 0 Status: OK PackageFile: systemPipeTools_1.16.0.tar.gz PackageFileSize: 1.009 MiB