Package: systemPipeTools Version: 1.16.0 Command: rm -rf systemPipeTools.buildbin-libdir && mkdir systemPipeTools.buildbin-libdir && /Users/biocbuild/BBS/utils/build-universal.sh systemPipeTools_1.16.0.tar.gz /Library/Frameworks/R.framework/Resources/bin/R systemPipeTools.buildbin-libdir StartedAt: 2025-10-15 20:47:13 -0400 (Wed, 15 Oct 2025) EndedAt: 2025-10-15 20:47:47 -0400 (Wed, 15 Oct 2025) EllapsedTime: 34.0 seconds RetCode: 0 Status: OK PackageFile: systemPipeTools_1.16.0.tgz PackageFileSize: 1.033 MiB