Package: systemPipeShiny Version: 1.18.0 Command: rm -rf systemPipeShiny.buildbin-libdir && mkdir systemPipeShiny.buildbin-libdir && /Users/biocbuild/BBS/utils/build-universal.sh systemPipeShiny_1.18.0.tar.gz /Library/Frameworks/R.framework/Resources/bin/R systemPipeShiny.buildbin-libdir StartedAt: 2025-10-14 14:56:07 -0400 (Tue, 14 Oct 2025) EndedAt: 2025-10-14 14:56:53 -0400 (Tue, 14 Oct 2025) EllapsedTime: 46.2 seconds RetCode: 0 Status: OK PackageFile: systemPipeShiny_1.18.0.tgz PackageFileSize: 3.58 MiB