Package: systemPipeShiny Version: 1.18.0 Command: /home/biocbuild/R/R/bin/R CMD INSTALL systemPipeShiny StartedAt: 2025-10-13 20:20:30 -0000 (Mon, 13 Oct 2025) EndedAt: 2025-10-13 20:21:03 -0000 (Mon, 13 Oct 2025) EllapsedTime: 32.4 seconds RetCode: 0 Status: OK