Package: systemPipeShiny Version: 1.18.0 Command: rm -rf systemPipeShiny.buildbin-libdir && mkdir systemPipeShiny.buildbin-libdir && /Users/biocbuild/BBS/utils/build-universal.sh systemPipeShiny_1.18.0.tar.gz /Library/Frameworks/R.framework/Resources/bin/R systemPipeShiny.buildbin-libdir StartedAt: 2025-10-15 20:47:10 -0400 (Wed, 15 Oct 2025) EndedAt: 2025-10-15 20:47:30 -0400 (Wed, 15 Oct 2025) EllapsedTime: 20.4 seconds RetCode: 0 Status: OK PackageFile: systemPipeShiny_1.18.0.tgz PackageFileSize: 3.58 MiB