Package: systemPipeR Version: 2.14.2 Command: /Library/Frameworks/R.framework/Resources/bin/R CMD build --keep-empty-dirs --no-resave-data systemPipeR StartedAt: 2025-10-13 23:09:04 -0400 (Mon, 13 Oct 2025) EndedAt: 2025-10-13 23:12:10 -0400 (Mon, 13 Oct 2025) EllapsedTime: 185.7 seconds RetCode: 0 Status: OK PackageFile: systemPipeR_2.14.2.tar.gz PackageFileSize: 6.497 MiB