Package: systemPipeR Version: 2.14.2 Command: rm -rf systemPipeR.buildbin-libdir && mkdir systemPipeR.buildbin-libdir && /Users/biocbuild/BBS/utils/build-universal.sh systemPipeR_2.14.2.tar.gz /Library/Frameworks/R.framework/Resources/bin/R systemPipeR.buildbin-libdir StartedAt: 2025-10-14 14:56:04 -0400 (Tue, 14 Oct 2025) EndedAt: 2025-10-14 14:58:12 -0400 (Tue, 14 Oct 2025) EllapsedTime: 128.4 seconds RetCode: 0 Status: OK PackageFile: systemPipeR_2.14.2.tgz PackageFileSize: 6.286 MiB