Package: systemPipeR Version: 2.14.2 Command: /home/biocbuild/R/R/bin/R CMD INSTALL systemPipeR StartedAt: 2025-10-13 21:08:16 -0000 (Mon, 13 Oct 2025) EndedAt: 2025-10-13 21:09:24 -0000 (Mon, 13 Oct 2025) EllapsedTime: 67.9 seconds RetCode: 0 Status: OK