Package: syntenet Version: 1.10.2 Command: /home/biocbuild/bbs-3.21-bioc/R/bin/R CMD build --keep-empty-dirs --no-resave-data syntenet StartedAt: 2025-10-15 20:14:15 -0400 (Wed, 15 Oct 2025) EndedAt: 2025-10-15 20:15:55 -0400 (Wed, 15 Oct 2025) EllapsedTime: 100.1 seconds RetCode: 0 Status: OK PackageFile: syntenet_1.10.2.tar.gz PackageFileSize: 4.524 MiB