Package: syntenet Version: 1.10.2 Command: /home/biocbuild/R/R/bin/R CMD INSTALL syntenet StartedAt: 2025-10-13 20:28:20 -0000 (Mon, 13 Oct 2025) EndedAt: 2025-10-13 20:29:20 -0000 (Mon, 13 Oct 2025) EllapsedTime: 60.6 seconds RetCode: 0 Status: OK