Package: syntenet Version: 1.10.2 Command: /home/biocbuild/R/R/bin/R CMD build --keep-empty-dirs --no-resave-data syntenet StartedAt: 2025-10-14 05:16:28 -0000 (Tue, 14 Oct 2025) EndedAt: 2025-10-14 05:18:54 -0000 (Tue, 14 Oct 2025) EllapsedTime: 146.1 seconds RetCode: 0 Status: OK PackageFile: syntenet_1.10.2.tar.gz PackageFileSize: 4.112 MiB