Package: syntenet Version: 1.10.2 Command: /Library/Frameworks/R.framework/Resources/bin/R CMD INSTALL syntenet StartedAt: 2025-10-13 16:03:31 -0400 (Mon, 13 Oct 2025) EndedAt: 2025-10-13 16:04:12 -0400 (Mon, 13 Oct 2025) EllapsedTime: 40.3 seconds RetCode: 0 Status: OK