Package: synlet Version: 2.8.0 Command: /home/biocbuild/R/R/bin/R CMD INSTALL synlet StartedAt: 2025-10-13 20:21:16 -0000 (Mon, 13 Oct 2025) EndedAt: 2025-10-13 20:21:40 -0000 (Mon, 13 Oct 2025) EllapsedTime: 24.2 seconds RetCode: 0 Status: OK