Package: synlet Version: 2.8.0 Command: /home/biocbuild/R/R/bin/R CMD build --keep-empty-dirs --no-resave-data synlet StartedAt: 2025-10-14 05:16:20 -0000 (Tue, 14 Oct 2025) EndedAt: 2025-10-14 05:17:02 -0000 (Tue, 14 Oct 2025) EllapsedTime: 42.0 seconds RetCode: 0 Status: OK PackageFile: synlet_2.8.0.tar.gz PackageFileSize: 1.377 MiB