Package: synapter Version: 2.32.0 Command: /home/biocbuild/R/R/bin/R CMD INSTALL synapter StartedAt: 2025-10-13 20:53:23 -0000 (Mon, 13 Oct 2025) EndedAt: 2025-10-13 20:54:49 -0000 (Mon, 13 Oct 2025) EllapsedTime: 86.0 seconds RetCode: 0 Status: OK