Package: switchde Version: 1.34.0 Command: /home/biocbuild/R/R/bin/R CMD build --keep-empty-dirs --no-resave-data switchde StartedAt: 2025-10-14 05:15:21 -0000 (Tue, 14 Oct 2025) EndedAt: 2025-10-14 05:16:21 -0000 (Tue, 14 Oct 2025) EllapsedTime: 60.0 seconds RetCode: 0 Status: OK PackageFile: switchde_1.34.0.tar.gz PackageFileSize: 1011 KiB