Package: switchBox Version: 1.44.0 Command: /home/biocbuild/bbs-3.21-bioc/R/bin/R CMD INSTALL switchBox StartedAt: 2025-10-15 15:03:24 -0400 (Wed, 15 Oct 2025) EndedAt: 2025-10-15 15:03:37 -0400 (Wed, 15 Oct 2025) EllapsedTime: 12.4 seconds RetCode: 0 Status: OK