Package: switchBox Version: 1.44.0 Command: /Library/Frameworks/R.framework/Resources/bin/R CMD INSTALL switchBox StartedAt: 2025-10-13 15:08:15 -0400 (Mon, 13 Oct 2025) EndedAt: 2025-10-13 15:08:39 -0400 (Mon, 13 Oct 2025) EllapsedTime: 24.0 seconds RetCode: 0 Status: OK