Package: switchBox Version: 1.44.0 Command: /Library/Frameworks/R.framework/Resources/bin/R CMD build --keep-empty-dirs --no-resave-data switchBox StartedAt: 2025-10-13 23:07:49 -0400 (Mon, 13 Oct 2025) EndedAt: 2025-10-13 23:08:18 -0400 (Mon, 13 Oct 2025) EllapsedTime: 28.9 seconds RetCode: 0 Status: OK PackageFile: switchBox_1.44.0.tar.gz PackageFileSize: 469.4 KiB