Package: switchBox Version: 1.44.0 Command: /home/biocbuild/R/R/bin/R CMD build --keep-empty-dirs --no-resave-data switchBox StartedAt: 2025-10-14 05:15:17 -0000 (Tue, 14 Oct 2025) EndedAt: 2025-10-14 05:15:30 -0000 (Tue, 14 Oct 2025) EllapsedTime: 13.0 seconds RetCode: 0 Status: OK PackageFile: switchBox_1.44.0.tar.gz PackageFileSize: 463.3 KiB