Package: swfdr Version: 1.34.0 Command: /home/biocbuild/bbs-3.21-bioc/R/bin/R CMD INSTALL swfdr StartedAt: 2025-10-15 15:03:38 -0400 (Wed, 15 Oct 2025) EndedAt: 2025-10-15 15:04:02 -0400 (Wed, 15 Oct 2025) EllapsedTime: 24.0 seconds RetCode: 0 Status: OK