Package: swfdr Version: 1.34.0 Command: /home/biocbuild/bbs-3.21-bioc/R/bin/R CMD build --keep-empty-dirs --no-resave-data swfdr StartedAt: 2025-10-15 20:13:15 -0400 (Wed, 15 Oct 2025) EndedAt: 2025-10-15 20:14:03 -0400 (Wed, 15 Oct 2025) EllapsedTime: 48.0 seconds RetCode: 0 Status: OK PackageFile: swfdr_1.34.0.tar.gz PackageFileSize: 1.203 MiB