Package: swfdr Version: 1.34.0 Command: /Library/Frameworks/R.framework/Resources/bin/R CMD build --keep-empty-dirs --no-resave-data swfdr StartedAt: 2025-10-13 23:07:45 -0400 (Mon, 13 Oct 2025) EndedAt: 2025-10-13 23:09:37 -0400 (Mon, 13 Oct 2025) EllapsedTime: 112.3 seconds RetCode: 0 Status: OK PackageFile: swfdr_1.34.0.tar.gz PackageFileSize: 1.203 MiB