Package: swfdr Version: 1.34.0 Command: /Library/Frameworks/R.framework/Resources/bin/R CMD build --keep-empty-dirs --no-resave-data swfdr StartedAt: 2025-10-14 10:44:42 -0400 (Tue, 14 Oct 2025) EndedAt: 2025-10-14 10:45:42 -0400 (Tue, 14 Oct 2025) EllapsedTime: 60.1 seconds RetCode: 1 Status: ERROR PackageFile: None PackageFileSize: NA