Package: survcomp Version: 1.58.0 Command: /home/biocbuild/R/R/bin/R CMD INSTALL survcomp StartedAt: 2025-10-13 20:19:39 -0000 (Mon, 13 Oct 2025) EndedAt: 2025-10-13 20:19:55 -0000 (Mon, 13 Oct 2025) EllapsedTime: 15.5 seconds RetCode: 0 Status: OK