Package: supraHex Version: 1.46.0 Command: /home/biocbuild/R/R/bin/R CMD INSTALL supraHex StartedAt: 2025-10-13 20:20:30 -0000 (Mon, 13 Oct 2025) EndedAt: 2025-10-13 20:20:42 -0000 (Mon, 13 Oct 2025) EllapsedTime: 12.0 seconds RetCode: 0 Status: OK