Package: subSeq Version: 1.38.0 Command: /Library/Frameworks/R.framework/Resources/bin/R CMD build --keep-empty-dirs --no-resave-data subSeq StartedAt: 2025-10-14 10:38:16 -0400 (Tue, 14 Oct 2025) EndedAt: 2025-10-14 10:39:08 -0400 (Tue, 14 Oct 2025) EllapsedTime: 52.4 seconds RetCode: 0 Status: OK PackageFile: subSeq_1.38.0.tar.gz PackageFileSize: 2.917 MiB