Package: subSeq Version: 1.38.0 Command: rm -rf subSeq.buildbin-libdir && mkdir subSeq.buildbin-libdir && /Users/biocbuild/BBS/utils/build-universal.sh subSeq_1.38.0.tar.gz /Library/Frameworks/R.framework/Resources/bin/R subSeq.buildbin-libdir StartedAt: 2025-10-15 20:44:59 -0400 (Wed, 15 Oct 2025) EndedAt: 2025-10-15 20:45:09 -0400 (Wed, 15 Oct 2025) EllapsedTime: 10.1 seconds RetCode: 0 Status: OK PackageFile: subSeq_1.38.0.tgz PackageFileSize: 2.948 MiB