Package: structToolbox Version: 1.20.0 Command: /home/biocbuild/bbs-3.21-bioc/R/bin/R CMD build --keep-empty-dirs --no-resave-data structToolbox StartedAt: 2025-10-15 20:11:45 -0400 (Wed, 15 Oct 2025) EndedAt: 2025-10-15 20:22:24 -0400 (Wed, 15 Oct 2025) EllapsedTime: 639.1 seconds RetCode: 0 Status: OK PackageFile: structToolbox_1.20.0.tar.gz PackageFileSize: 4.767 MiB