Package: structToolbox Version: 1.20.0 Command: /Library/Frameworks/R.framework/Resources/bin/R CMD INSTALL structToolbox StartedAt: 2025-10-13 15:58:37 -0400 (Mon, 13 Oct 2025) EndedAt: 2025-10-13 15:59:58 -0400 (Mon, 13 Oct 2025) EllapsedTime: 81.0 seconds RetCode: 0 Status: OK