Package: structToolbox Version: 1.20.0 Command: /home/biocbuild/R/R/bin/R CMD build --keep-empty-dirs --no-resave-data structToolbox StartedAt: 2025-10-14 05:11:25 -0000 (Tue, 14 Oct 2025) EndedAt: 2025-10-14 05:27:58 -0000 (Tue, 14 Oct 2025) EllapsedTime: 992.6 seconds RetCode: 0 Status: OK PackageFile: structToolbox_1.20.0.tar.gz PackageFileSize: 4.722 MiB